BEGIN:VCALENDAR
PRODID:-//Microsoft Corporation//Outlook 14.0 MIMEDIR//EN
VERSION:2.0
METHOD:PUBLISH
BEGIN:VEVENT
UID:9abeed1168833477a48d01f304f1215fwww.atccmonteregie.qc.ca
DTSTAMP:20260424T114851Z
DTSTART:2026-04-27T13:00:0000Z
DTEND:2026-04-27T15:30:0000Z
SUMMARY:Peinture et dessin Valleyfield (P2026)
LOCATION:77 Rue St Charles, Salaberry-de-Valleyfield, QC, Canada
DESCRIPTION:Exercices de peintures et de dessins avec différentes techniques.
END:VEVENT
END:VCALENDAR