BEGIN:VCALENDAR
PRODID:-//Microsoft Corporation//Outlook 14.0 MIMEDIR//EN
VERSION:2.0
METHOD:PUBLISH
BEGIN:VEVENT
UID:3c32be4c226c4c09cfbb7e254a6f71bfwww.atccmonteregie.qc.ca
DTSTAMP:20260424T101528Z
DTSTART:2026-05-04T13:00:0000Z
DTEND:2026-05-04T15:30:0000Z
SUMMARY:Peinture et dessin Valleyfield (P2026)
LOCATION:77 Rue St Charles, Salaberry-de-Valleyfield, QC, Canada
DESCRIPTION:Exercices de peintures et de dessins avec différentes techniques.
END:VEVENT
END:VCALENDAR