BEGIN:VCALENDAR
PRODID:-//Microsoft Corporation//Outlook 14.0 MIMEDIR//EN
VERSION:2.0
METHOD:PUBLISH
BEGIN:VEVENT
UID:b2c82af9e6e8d0012b2c022e6d136ac0www.atccmonteregie.qc.ca
DTSTAMP:20260424T114803Z
DTSTART:2026-05-25T13:00:0000Z
DTEND:2026-05-25T15:30:0000Z
SUMMARY:Peinture et dessin Valleyfield (P2026)
LOCATION:77 Rue St Charles, Salaberry-de-Valleyfield, QC, Canada
DESCRIPTION:Exercices de peintures et de dessins avec différentes techniques.
END:VEVENT
END:VCALENDAR