BEGIN:VCALENDAR
PRODID:-//Microsoft Corporation//Outlook 14.0 MIMEDIR//EN
VERSION:2.0
METHOD:PUBLISH
BEGIN:VEVENT
UID:eb12eafd27868e399b6a3bf060da8893www.atccmonteregie.qc.ca
DTSTAMP:20260424T114902Z
DTSTART:2026-06-01T13:00:0000Z
DTEND:2026-06-01T15:30:0000Z
SUMMARY:Peinture et dessin Valleyfield (P2026)
LOCATION:77 Rue St Charles, Salaberry-de-Valleyfield, QC, Canada
DESCRIPTION:Exercices de peintures et de dessins avec différentes techniques.
END:VEVENT
END:VCALENDAR