BEGIN:VCALENDAR
PRODID:-//Microsoft Corporation//Outlook 14.0 MIMEDIR//EN
VERSION:2.0
METHOD:PUBLISH
BEGIN:VEVENT
UID:f15cd60610260e46b35d3a6ca4c256b9www.atccmonteregie.qc.ca
DTSTAMP:20260424T101118Z
DTSTART:2025-11-19T13:00:0000Z
DTEND:2025-11-19T15:00:0000Z
SUMMARY:Peinture et dessin Valleyfield (P2026)
LOCATION:77 Rue St Charles, Salaberry-de-Valleyfield, QC, Canada
DESCRIPTION:Exercices de peintures et de dessins avec différentes techniques.
END:VEVENT
END:VCALENDAR